Workbook

Sheet Foglio1
J3: Valida dal 01/04/26
J5: FINANZIAMENTO FINALIZZATO
B7: N.B.- inserire l'importo nella colonna rosa
B9: Fasce Importo beni locati in euro | C9: Spese istruttoria | D9: Importo richiesto IVA INCLUSA | E9: 12 Canoni | F9: 18 Canoni | G9: 24 Canoni | H9: 36 Canoni | I9: 48 Canoni | J9: 60 Canoni
B10: 1.500 - 5.000 | C10: 50 | E10: =$D10*Foglio2!B3 -> 0 | F10: =$D10*Foglio2!C3 -> 0 | G10: =$D10*Foglio2!D3 -> 0 | H10: =$D10*Foglio2!E3 -> 0 | I10: =$D10*Foglio2!F3 -> 0 | J10: =$D10*Foglio2!G3 -> 0
B11: 5.001 - 10.000 | C11: 75 | E11: =$D11*Foglio2!B4 -> 0 | F11: =$D11*Foglio2!C4 -> 0 | G11: =$D11*Foglio2!D4 -> 0 | H11: =$D11*Foglio2!E4 -> 0 | I11: =$D11*Foglio2!F4 -> 0 | J11: =$D11*Foglio2!G4 -> 0
B12: 10.001 - 15.000 | C12: 100 | E12: =$D12*Foglio2!B5 -> 0 | F12: =$D12*Foglio2!C5 -> 0 | G12: =$D12*Foglio2!D5 -> 0 | H12: =$D12*Foglio2!E5 -> 0 | I12: =$D12*Foglio2!F5 -> 0 | J12: =$D12*Foglio2!G5 -> 0
B13: 15.001 - 25.000 | C13: 100 | E13: =$D13*Foglio2!B6 -> 0 | F13: =$D13*Foglio2!C6 -> 0 | G13: =$D13*Foglio2!D6 -> 0 | H13: =$D13*Foglio2!E6 -> 0 | I13: =$D13*Foglio2!F6 -> 0 | J13: =$D13*Foglio2!G6 -> 0
B14: 25.001 - 50.000 | C14: 150 | E14: =$D14*Foglio2!B7 -> 0 | F14: =$D14*Foglio2!C7 -> 0 | G14: =$D14*Foglio2!D7 -> 0 | H14: =$D14*Foglio2!E7 -> 0 | I14: =$D14*Foglio2!F7 -> 0 | J14: =$D14*Foglio2!G7 -> 0
B17: Modalità di pagamento: addebito RID MENSILE POSTICIPATO (senza alcun rateo)
B18: Spese incasso RID € 4
B19: Canoni IVA INCLUSA
J21: Via Corridoni, 2 - 24124 Bergamo (BG) - Tel. 035.220489
J22: P.IVA: 04896250166 - info@lazzaribcclease.it

Sheet Foglio2
A1: PARAMETRI DI COLONNA - canone MENSILE | B1: t2 | D1: t3
A2: Importo dei beni locati in Euro | B2: 12 Canoni V.R. 1% | C2: 18 Canoni V.R. 1% | D2: 24 Canoni V.R. 1% | E2: 36 Canoni V.R. 1% | F2: 48 Canoni V.R. 1% | G2: 60 Canoni V.R. 1%
A3: < 5.000 | B3: 0.08927 | C3: 0.06086 | D3: 0.04726 | E3: 0.03299 | F3: 0.02594 | G3: 0.02175
A4: 5.001 - 10.000 | B4: 0.08903 | C4: 0.06062 | D4: 0.04702 | E4: 0.03275 | F4: 0.0257 | G4: 0.0215
A5: 10.001 - 15.000 | B5: 0.08903 | C5: 0.06062 | D5: 0.04702 | E5: 0.03275 | F5: 0.0257 | G5: 0.0215
A6: 15.001 - 25.000 | B6: 0.08879 | C6: 0.06039 | D6: 0.04679 | E6: 0.03251 | F6: 0.02545 | G6: 0.02125
A7: 25.001 - 50.000 | B7: 0.08879 | C7: 0.06039 | D7: 0.04679 | E7: 0.03251 | F7: 0.02545 | G7: 0.02125
